BEGIN:VCALENDAR
VERSION:2.0
PRODID:-//Uncle Lefty&#039;s - ECPv6.15.20//NONSGML v1.0//EN
CALSCALE:GREGORIAN
METHOD:PUBLISH
X-ORIGINAL-URL:https://www.uncleleftys.com
X-WR-CALDESC:Events for Uncle Lefty&#039;s
REFRESH-INTERVAL;VALUE=DURATION:PT1H
X-Robots-Tag:noindex
X-PUBLISHED-TTL:PT1H
BEGIN:VTIMEZONE
TZID:UTC
BEGIN:STANDARD
TZOFFSETFROM:+0000
TZOFFSETTO:+0000
TZNAME:UTC
DTSTART:20240101T000000
END:STANDARD
END:VTIMEZONE
BEGIN:VEVENT
DTSTART;TZID=UTC:20250805T190000
DTEND;TZID=UTC:20250805T210000
DTSTAMP:20260420T125625
CREATED:20250721T171352Z
LAST-MODIFIED:20250721T171355Z
UID:1729-1754420400-1754427600@www.uncleleftys.com
SUMMARY:Live Music: The Chris Conte Duo
DESCRIPTION:Tues Night Music @Lefty’s: free live music\nChris Conte lives in Westchester. He performs American Songbook Jazz for intimate gatherings to large celebrations and live jazz adds a class and ambiance unlike any other music.  Chris is available for private events:  chriscontemusic.com
URL:https://www.uncleleftys.com/event/the-chris-conte-duo-5/
LOCATION:Uncle Lefty’s\, 583 Warburton Avenue\, Hastings-on-Hudson\, NY\, 10706\, United States
CATEGORIES:Live Music
ATTACH;FMTTYPE=image/png:https://www.uncleleftys.com/wp-content/uploads/2024/08/1920x1080-ChrisConte.png
END:VEVENT
BEGIN:VEVENT
DTSTART;TZID=UTC:20250812T190000
DTEND;TZID=UTC:20250812T210000
DTSTAMP:20260420T125625
CREATED:20250721T171147Z
LAST-MODIFIED:20250721T171147Z
UID:1727-1755025200-1755032400@www.uncleleftys.com
SUMMARY:Live Music: The Leo Belsky Trio
DESCRIPTION:Tues Night Music @Lefty’s: free live music\nThe Leo Belsky Trio: This blues power trio is an exciting new group based in and around New York. With a range in genres spanning from blues to rock to jazz to everything in between\, this trio goes up and down the Hudson to show people their sound. Led by Vocalist and Guitarist Leo Belsky\, their mix of originals and covers is great for dancing\, listening\, and enjoying! \nLeo Belsky: Vocals/Guitar \nManny Fuentes: Bass \nMicah Kelleher: Drums
URL:https://www.uncleleftys.com/event/the-leo-belsky-trio-3/
LOCATION:Uncle Lefty’s\, 583 Warburton Avenue\, Hastings-on-Hudson\, NY\, 10706\, United States
CATEGORIES:Live Music
ATTACH;FMTTYPE=image/png:https://www.uncleleftys.com/wp-content/uploads/2025/07/1920x1080-Leo-Trio.png
END:VEVENT
BEGIN:VEVENT
DTSTART;VALUE=DATE:20250818
DTEND;VALUE=DATE:20250827
DTSTAMP:20260420T125625
CREATED:20250807T174211Z
LAST-MODIFIED:20250807T174920Z
UID:1777-1755475200-1756252799@www.uncleleftys.com
SUMMARY:Closed for Vacation
DESCRIPTION:
URL:https://www.uncleleftys.com/event/closed-for-vacation/
END:VEVENT
BEGIN:VEVENT
DTSTART;VALUE=DATE:20250819
DTEND;VALUE=DATE:20250820
DTSTAMP:20260420T125625
CREATED:20250627T150221Z
LAST-MODIFIED:20250627T150221Z
UID:1665-1755561600-1755647999@www.uncleleftys.com
SUMMARY:no music tonight
DESCRIPTION:
URL:https://www.uncleleftys.com/event/no-music-tonight-3/
CATEGORIES:Closed
END:VEVENT
BEGIN:VEVENT
DTSTART;VALUE=DATE:20250826
DTEND;VALUE=DATE:20250827
DTSTAMP:20260420T125625
CREATED:20250627T150258Z
LAST-MODIFIED:20250627T150258Z
UID:1666-1756166400-1756252799@www.uncleleftys.com
SUMMARY:no music tonight
DESCRIPTION:
URL:https://www.uncleleftys.com/event/no-music-tonight-4/
CATEGORIES:Closed
END:VEVENT
END:VCALENDAR