BEGIN:VCALENDAR
VERSION:2.0
PRODID:-//Uncle Lefty&#039;s - ECPv6.15.20//NONSGML v1.0//EN
CALSCALE:GREGORIAN
METHOD:PUBLISH
X-ORIGINAL-URL:https://www.uncleleftys.com
X-WR-CALDESC:Events for Uncle Lefty&#039;s
REFRESH-INTERVAL;VALUE=DURATION:PT1H
X-Robots-Tag:noindex
X-PUBLISHED-TTL:PT1H
BEGIN:VTIMEZONE
TZID:UTC
BEGIN:STANDARD
TZOFFSETFROM:+0000
TZOFFSETTO:+0000
TZNAME:UTC
DTSTART:20230101T000000
END:STANDARD
END:VTIMEZONE
BEGIN:VEVENT
DTSTART;TZID=UTC:20240604T190000
DTEND;TZID=UTC:20240604T210000
DTSTAMP:20260419T115412
CREATED:20240429T193906Z
LAST-MODIFIED:20240429T194008Z
UID:304-1717527600-1717534800@www.uncleleftys.com
SUMMARY:Live Music: Kat Gang
DESCRIPTION:Tues Night Music @Lefty’s: free live music\nKat Gang | Vocalist | katgangjazz | Facebook \nKat is an exciting\, talented example of the current new generation of singer/ songwriters who presents her own brand of jazz-influenced\, contemporary music to an ever-increasing and diverse audience. From her unique take on the traditional jazz standards\, to her personal and soulful interpretations of the music of Joni Mitchell\, Rickie Lee Jones and even the Arctic Monkeys and Oasis\, this Boston born vocalist wins appreciation in theatres\, clubs\, restaurants and even bateaux on London’s River Thames. She is in constant demand and regularly works as a duo with jazz guitar or piano\, as well as with many of Europe’s leading musicians in big bands; nonets; as part of an eight piece Ella Fitzgerald tribute and with her own trio and quartet. Learn more about her here \n 
URL:https://www.uncleleftys.com/event/live-music-kat-gang/
LOCATION:Uncle Lefty’s\, 583 Warburton Avenue\, Hastings-on-Hudson\, NY\, 10706\, United States
ATTACH;FMTTYPE=image/png:https://www.uncleleftys.com/wp-content/uploads/2024/03/1920x1080-KatGang.png
END:VEVENT
BEGIN:VEVENT
DTSTART;TZID=UTC:20240611T190000
DTEND;TZID=UTC:20240611T210000
DTSTAMP:20260419T115412
CREATED:20240429T193620Z
LAST-MODIFIED:20240606T174457Z
UID:303-1718132400-1718139600@www.uncleleftys.com
SUMMARY:Live Music: Chris Conte with Jeff Barone
DESCRIPTION:Tues Night Music @Lefty’s: free live music\nChris Conte lives in Westchester. He performs American Songbook Jazz for intimate gatherings to large celebrations and live jazz adds a class and ambiance unlike any other music.  Chris is available for private events:  chriscontemusic.com \nJeff Barone is an impressive guitarist\, who has developed a strong reputation with his recordings (Crazy Talk and Open Up)\, live performances\, and record producing. His playing invigorates the modern mainstream of jazz\, swinging hard while looking forward. jeffbarone.com
URL:https://www.uncleleftys.com/event/chris-conte-w-jeff-barone/
LOCATION:Uncle Lefty’s\, 583 Warburton Avenue\, Hastings-on-Hudson\, NY\, 10706\, United States
ATTACH;FMTTYPE=image/png:https://www.uncleleftys.com/wp-content/uploads/2024/04/1920x1080-Chris-Conte-Jeff-Barone.png
END:VEVENT
BEGIN:VEVENT
DTSTART;TZID=UTC:20240618T190000
DTEND;TZID=UTC:20240618T210000
DTSTAMP:20260419T115412
CREATED:20240604T182204Z
LAST-MODIFIED:20240604T182352Z
UID:338-1718737200-1718744400@www.uncleleftys.com
SUMMARY:Live Music: Chris + Sal
DESCRIPTION:Tues Night Music @Lefty’s: free live music\nChris Sanders and Sal DiRuggierio\, most notably known for Lords of Hawthorne\, will be playing acoustic rock. \nLords of Hawthorne | Facebook | Instagram \n 
URL:https://www.uncleleftys.com/event/chris-and-sal/
LOCATION:Uncle Lefty’s\, 583 Warburton Avenue\, Hastings-on-Hudson\, NY\, 10706\, United States
ATTACH;FMTTYPE=image/jpeg:https://www.uncleleftys.com/wp-content/uploads/2024/06/ChrisSal-1920x1080-1.jpg
END:VEVENT
BEGIN:VEVENT
DTSTART;TZID=UTC:20240625T190000
DTEND;TZID=UTC:20240625T210000
DTSTAMP:20260419T115412
CREATED:20240604T183310Z
LAST-MODIFIED:20240611T193136Z
UID:341-1719342000-1719349200@www.uncleleftys.com
SUMMARY:Live Music:  Tony Di Lullo with Evan Schwam
DESCRIPTION:Tues Night Music @Lefty’s: free live music\nTony Di Lullo has played in venues ranging from Lincoln Center to the Espoo Jazz Festival in Finland\, sharing the stage with Ray Charles and the Yellowjackets. Plus\, he has also played guitar in the off-Broadway production of “Once Around the Sun” at the Zipper Theater in the Fashion District of NYC and performs private functions at all the finest establishments in the city ranging from the Plaza Hotel to the Ritz Carlton. Tony owns and operates NYTuneSaloon. Instagram  \nEvan Schwam: Facebook | Instagram   Check out this Concerts in Motion interview here.
URL:https://www.uncleleftys.com/event/tony-di-lullo-evan-schwam/
LOCATION:Uncle Lefty’s\, 583 Warburton Avenue\, Hastings-on-Hudson\, NY\, 10706\, United States
ATTACH;FMTTYPE=image/png:https://www.uncleleftys.com/wp-content/uploads/2024/06/Tony-DiLullo-1920x1080-1.png
END:VEVENT
END:VCALENDAR