BEGIN:VCALENDAR
VERSION:2.0
PRODID:-//Uncle Lefty&#039;s - ECPv6.15.20//NONSGML v1.0//EN
CALSCALE:GREGORIAN
METHOD:PUBLISH
X-WR-CALNAME:Uncle Lefty&#039;s
X-ORIGINAL-URL:https://www.uncleleftys.com
X-WR-CALDESC:Events for Uncle Lefty&#039;s
REFRESH-INTERVAL;VALUE=DURATION:PT1H
X-Robots-Tag:noindex
X-PUBLISHED-TTL:PT1H
BEGIN:VTIMEZONE
TZID:UTC
BEGIN:STANDARD
TZOFFSETFROM:+0000
TZOFFSETTO:+0000
TZNAME:UTC
DTSTART:20230101T000000
END:STANDARD
END:VTIMEZONE
BEGIN:VEVENT
DTSTART;TZID=UTC:20240319T190000
DTEND;TZID=UTC:20240319T210000
DTSTAMP:20260419T143553
CREATED:20240324T175434Z
LAST-MODIFIED:20240324T175441Z
UID:262-1710874800-1710882000@www.uncleleftys.com
SUMMARY:Live Music: Chris Conte with Mark McIntyre
DESCRIPTION:Tues Night Music @Lefty’s: free live music\nChris Conte lives in Westchester. He performs American Songbook Jazz for intimate gatherings to large celebrations and live jazz adds a class and ambiance unlike any other music.  He is available for private events:  chriscontemusic.com \nMark McIntyre guitarist: https://www.markmcintyremusic.com
URL:https://www.uncleleftys.com/event/live-music-chris-conte-with-mark-mcintyre/
LOCATION:Uncle Lefty’s\, 583 Warburton Avenue\, Hastings-on-Hudson\, NY\, 10706\, United States
ATTACH;FMTTYPE=image/png:https://www.uncleleftys.com/wp-content/uploads/2024/03/1920x1080-Chris-Conte-Mark-McIntyre.png
END:VEVENT
BEGIN:VEVENT
DTSTART;TZID=UTC:20240312T190000
DTEND;TZID=UTC:20240312T210000
DTSTAMP:20260419T143553
CREATED:20240305T162931Z
LAST-MODIFIED:20240429T224903Z
UID:176-1710270000-1710277200@www.uncleleftys.com
SUMMARY:Live Music: Milton with Jeff Erych
DESCRIPTION:Milton with Jeff Erych\nMilton Guitar https://www.miltonmusic.com \nJeff Erych Bass https://jeffeyrich.com
URL:https://www.uncleleftys.com/event/live-music-milton/
LOCATION:Uncle Lefty’s\, 583 Warburton Avenue\, Hastings-on-Hudson\, NY\, 10706\, United States
ATTACH;FMTTYPE=image/png:https://www.uncleleftys.com/wp-content/uploads/2024/03/1920x1080-Milton.png
END:VEVENT
END:VCALENDAR