BEGIN:VCALENDAR
VERSION:2.0
PRODID:-//Uncle Lefty&#039;s - ECPv6.15.20//NONSGML v1.0//EN
CALSCALE:GREGORIAN
METHOD:PUBLISH
X-ORIGINAL-URL:https://www.uncleleftys.com
X-WR-CALDESC:Events for Uncle Lefty&#039;s
REFRESH-INTERVAL;VALUE=DURATION:PT1H
X-Robots-Tag:noindex
X-PUBLISHED-TTL:PT1H
BEGIN:VTIMEZONE
TZID:UTC
BEGIN:STANDARD
TZOFFSETFROM:+0000
TZOFFSETTO:+0000
TZNAME:UTC
DTSTART:20240101T000000
END:STANDARD
END:VTIMEZONE
BEGIN:VEVENT
DTSTART;TZID=UTC:20250916T190000
DTEND;TZID=UTC:20250916T210000
DTSTAMP:20260420T125751
CREATED:20250805T231129Z
LAST-MODIFIED:20250814T194033Z
UID:1766-1758049200-1758056400@www.uncleleftys.com
SUMMARY:Live Music: Tony Di Lullo
DESCRIPTION:Tues Night Music @Lefty’s: free live music\nTony Di Lullo has played in venues ranging from Lincoln Center to the Espoo Jazz Festival in Finland\, sharing the stage with Ray Charles and the Yellowjackets. Plus\, he has also played guitar in the off-Broadway production of “Once Around the Sun” at the Zipper Theater in the Fashion District of NYC and performs private functions at all the finest establishments in the city ranging from the Plaza Hotel to the Ritz Carlton. Tony owns and operates NYTuneSaloon. Instagram 
URL:https://www.uncleleftys.com/event/tony-di-lullo/
LOCATION:Uncle Lefty’s\, 583 Warburton Avenue\, Hastings-on-Hudson\, NY\, 10706\, United States
ATTACH;FMTTYPE=image/png:https://www.uncleleftys.com/wp-content/uploads/2024/06/Tony-DiLullo-1920x1080-1.png
END:VEVENT
END:VCALENDAR