BEGIN:VCALENDAR
VERSION:2.0
PRODID:-//Uncle Lefty&#039;s - ECPv6.15.20//NONSGML v1.0//EN
CALSCALE:GREGORIAN
METHOD:PUBLISH
X-WR-CALNAME:Uncle Lefty&#039;s
X-ORIGINAL-URL:https://www.uncleleftys.com
X-WR-CALDESC:Events for Uncle Lefty&#039;s
REFRESH-INTERVAL;VALUE=DURATION:PT1H
X-Robots-Tag:noindex
X-PUBLISHED-TTL:PT1H
BEGIN:VTIMEZONE
TZID:UTC
BEGIN:STANDARD
TZOFFSETFROM:+0000
TZOFFSETTO:+0000
TZNAME:UTC
DTSTART:20240101T000000
END:STANDARD
END:VTIMEZONE
BEGIN:VEVENT
DTSTART;TZID=UTC:20250909T190000
DTEND;TZID=UTC:20250909T210000
DTSTAMP:20260424T083019
CREATED:20250805T230954Z
LAST-MODIFIED:20250805T230954Z
UID:1764-1757444400-1757451600@www.uncleleftys.com
SUMMARY:Live Music: Colin McGrath + friends
DESCRIPTION:Tues Night Music @Lefty’s: free live music\nColin McGrath: Award-winning songwriter Colin McGrath plays a blend of blues\, folk\, jazz and Americana. His songs share observations\, recount lessons learned\, and tell stories all to the infectious grooves of percussionist Justin Hines. Influences include Wilco\, Paul Simon\, and the Velvet Underground. \nWebsite    Facebook    Spotify
URL:https://www.uncleleftys.com/event/colin-mcgrath-and-friends/
LOCATION:Uncle Lefty’s\, 583 Warburton Avenue\, Hastings-on-Hudson\, NY\, 10706\, United States
CATEGORIES:Live Music
ATTACH;FMTTYPE=image/png:https://www.uncleleftys.com/wp-content/uploads/2025/08/1920x1080-Colin-McGrath.png
END:VEVENT
END:VCALENDAR