BEGIN:VCALENDAR
VERSION:2.0
PRODID:-//Uncle Lefty&#039;s - ECPv6.15.20//NONSGML v1.0//EN
CALSCALE:GREGORIAN
METHOD:PUBLISH
X-ORIGINAL-URL:https://www.uncleleftys.com
X-WR-CALDESC:Events for Uncle Lefty&#039;s
REFRESH-INTERVAL;VALUE=DURATION:PT1H
X-Robots-Tag:noindex
X-PUBLISHED-TTL:PT1H
BEGIN:VTIMEZONE
TZID:UTC
BEGIN:STANDARD
TZOFFSETFROM:+0000
TZOFFSETTO:+0000
TZNAME:UTC
DTSTART:20240101T000000
END:STANDARD
END:VTIMEZONE
BEGIN:VEVENT
DTSTART;TZID=UTC:20250902T200000
DTEND;TZID=UTC:20250902T220000
DTSTAMP:20260420T125931
CREATED:20250805T230715Z
LAST-MODIFIED:20250814T200309Z
UID:1761-1756843200-1756850400@www.uncleleftys.com
SUMMARY:Live Music: Lexie Schur + Max Boyd
DESCRIPTION:Tues Night Music @Lefty’s: free live music\nPlease note music begins at 8pm tonight\nX MARKS THE SPOT |  LEX & MAX \nLexie Schur and Max Boyd have been friends since kindergarten. Both are now seniors in high school.  \nThey are getting together for the first time to perform some pop radio and classic hits. Lexie Schur\, Vocals and Max Boyd\, Keyboard. \n 
URL:https://www.uncleleftys.com/event/lexie-schur-max-boyd/
LOCATION:Uncle Lefty’s\, 583 Warburton Avenue\, Hastings-on-Hudson\, NY\, 10706\, United States
CATEGORIES:Live Music
ATTACH;FMTTYPE=image/png:https://www.uncleleftys.com/wp-content/uploads/2025/08/1920x1080-Lexie-and-Max.png
END:VEVENT
END:VCALENDAR