BEGIN:VCALENDAR
VERSION:2.0
PRODID:-//Uncle Lefty&#039;s - ECPv6.15.20//NONSGML v1.0//EN
CALSCALE:GREGORIAN
METHOD:PUBLISH
X-WR-CALNAME:Uncle Lefty&#039;s
X-ORIGINAL-URL:https://www.uncleleftys.com
X-WR-CALDESC:Events for Uncle Lefty&#039;s
REFRESH-INTERVAL;VALUE=DURATION:PT1H
X-Robots-Tag:noindex
X-PUBLISHED-TTL:PT1H
BEGIN:VTIMEZONE
TZID:UTC
BEGIN:STANDARD
TZOFFSETFROM:+0000
TZOFFSETTO:+0000
TZNAME:UTC
DTSTART:20230101T000000
END:STANDARD
END:VTIMEZONE
BEGIN:VEVENT
DTSTART;TZID=UTC:20240604T190000
DTEND;TZID=UTC:20240604T210000
DTSTAMP:20260425T113124
CREATED:20240429T193906Z
LAST-MODIFIED:20240429T194008Z
UID:304-1717527600-1717534800@www.uncleleftys.com
SUMMARY:Live Music: Kat Gang
DESCRIPTION:Tues Night Music @Lefty’s: free live music\nKat Gang | Vocalist | katgangjazz | Facebook \nKat is an exciting\, talented example of the current new generation of singer/ songwriters who presents her own brand of jazz-influenced\, contemporary music to an ever-increasing and diverse audience. From her unique take on the traditional jazz standards\, to her personal and soulful interpretations of the music of Joni Mitchell\, Rickie Lee Jones and even the Arctic Monkeys and Oasis\, this Boston born vocalist wins appreciation in theatres\, clubs\, restaurants and even bateaux on London’s River Thames. She is in constant demand and regularly works as a duo with jazz guitar or piano\, as well as with many of Europe’s leading musicians in big bands; nonets; as part of an eight piece Ella Fitzgerald tribute and with her own trio and quartet. Learn more about her here \n 
URL:https://www.uncleleftys.com/event/live-music-kat-gang/
LOCATION:Uncle Lefty’s\, 583 Warburton Avenue\, Hastings-on-Hudson\, NY\, 10706\, United States
ATTACH;FMTTYPE=image/png:https://www.uncleleftys.com/wp-content/uploads/2024/03/1920x1080-KatGang.png
END:VEVENT
END:VCALENDAR